BEGIN:VCALENDAR
VERSION:2.0
METHOD:PUBLISH
BEGIN:VEVENT
ORGANIZER:MAILTO:Bizim Toptan
DTSTART:20260507T160000Z
DTEND:20260507T200000Z
CREATED:20260421T154207Z
UID:20260421T172159Z-BizimToptanIR
DTSTAMP:20260421T172159Z
SUMMARY:2026 1st Quarter Financial Results Announcement
PRIORITY:5
CLASS:PUBLIC
BEGIN:VALARM
TRIGGER:-PT15M
ACTION:DISPLAY
DESCRIPTION:Reminder
END:VALARM
END:VEVENT
END:VCALENDAR